BEGIN:VCALENDAR
VERSION:2.0
PRODID:-//Frederiksberg Kommunalforening - ECPv6.15.9//NONSGML v1.0//EN
CALSCALE:GREGORIAN
METHOD:PUBLISH
X-ORIGINAL-URL:https://fkfinfo.auxodev2.dk
X-WR-CALDESC:Begivenheder for Frederiksberg Kommunalforening
REFRESH-INTERVAL;VALUE=DURATION:PT1H
X-Robots-Tag:noindex
X-PUBLISHED-TTL:PT1H
BEGIN:VTIMEZONE
TZID:Europe/Copenhagen
BEGIN:DAYLIGHT
TZOFFSETFROM:+0100
TZOFFSETTO:+0200
TZNAME:CEST
DTSTART:20240331T010000
END:DAYLIGHT
BEGIN:STANDARD
TZOFFSETFROM:+0200
TZOFFSETTO:+0100
TZNAME:CET
DTSTART:20241027T010000
END:STANDARD
BEGIN:DAYLIGHT
TZOFFSETFROM:+0100
TZOFFSETTO:+0200
TZNAME:CEST
DTSTART:20250330T010000
END:DAYLIGHT
BEGIN:STANDARD
TZOFFSETFROM:+0200
TZOFFSETTO:+0100
TZNAME:CET
DTSTART:20251026T010000
END:STANDARD
BEGIN:DAYLIGHT
TZOFFSETFROM:+0100
TZOFFSETTO:+0200
TZNAME:CEST
DTSTART:20260329T010000
END:DAYLIGHT
BEGIN:STANDARD
TZOFFSETFROM:+0200
TZOFFSETTO:+0100
TZNAME:CET
DTSTART:20261025T010000
END:STANDARD
END:VTIMEZONE
BEGIN:VEVENT
DTSTART;TZID=Europe/Copenhagen:20251126T130000
DTEND;TZID=Europe/Copenhagen:20251126T180000
DTSTAMP:20260423T122609
CREATED:20250730T081803Z
LAST-MODIFIED:20251028T115017Z
UID:10000003-1764162000-1764180000@fkfinfo.auxodev2.dk
SUMMARY:Pensionistklubbens julekomsammen 2025
DESCRIPTION:Som vanligt mødes Pensionistklubbens medlemmer i Frederiksberg Hallernes Restaurant \nJens Jessens Vej 20\, 2000 Frederiksberg. \nOnsdag den 26. november 2025\, kl. 13.00 \nDrikkevarer er for egen regning. \nFor ledsager som ikke er medlem af Pensionistklubben\, er prisen 250 kr. + drikkevarer. \nTilmeldingen til julemiddagen er længere nede på denne side\, og skal ske \nSenest den 12. november 2025. \nTilmelding til julekomsammen\nUps! We kunne ikke finde din formular. \n 
URL:https://fkfinfo.auxodev2.dk/event/pensionistklubbens-julekomsammen-2025/
LOCATION:Smallegade 1\, Frederiksberg
CATEGORIES:Klubarrangementer
ATTACH;FMTTYPE=image/jpeg:https://fkfinfo.auxodev2.dk/wp-content/uploads/julebillede-2023-min-2-scaled-1-scaled.jpg
END:VEVENT
BEGIN:VEVENT
DTSTART;TZID=Europe/Copenhagen:20251008T160000
DTEND;TZID=Europe/Copenhagen:20251008T180000
DTSTAMP:20260423T122609
CREATED:20250313T071554Z
LAST-MODIFIED:20251028T115051Z
UID:10000005-1759939200-1759946400@fkfinfo.auxodev2.dk
SUMMARY:Oktober-arrangement 2025
DESCRIPTION:FKFs Oktober-arrangement 2025\n  \nKom og bliv inspireret af Rikke Nielsen!Dette er ikke bare endnu et foredrag om store sportsresultater. Rikke Nielsen\, tidligere professionel håndboldspiller og sygeplejerske\, deler sin livsbekræftende historie om mod\, viljestyrke og om at finde mening i modgangen. Et foredrag fyldt med passion og refleksion – som kan gøre en forskel i din hverdag. \n  \nÅrets oktober-arrangement bliver i år afholdt på Arbejdermuseet i den smukke festsal.  \n \nRømersgade 22\, 1362 København K. \n  \nProgram\nKl.16:00 Øl/sodavand/vin & snacks. \nKl.16:30 Rikke begynder sit oplæg. \nKl.18:00 Tak for i dag. \n  \nArrangementet er gratis og er kun for FKF-medlemmer. \nVi ser sammen med jer frem til en aften\, som er fyldt med inspiration\, god energi og håb. \nMeld dig til her: \n\nUps! We kunne ikke finde din formular. \n  \n  \nArrangementet støttes af Interesseforeningen. \n  \n 
URL:https://fkfinfo.auxodev2.dk/event/oktober-arrangement-2025/
CATEGORIES:Klubarrangementer,Pension
ATTACH;FMTTYPE=image/jpeg:https://fkfinfo.auxodev2.dk/wp-content/uploads/Rikke-Nielsen-2-scaled-e1746616088348-scaled.jpg
END:VEVENT
BEGIN:VEVENT
DTSTART;TZID=Europe/Copenhagen:20250911T073000
DTEND;TZID=Europe/Copenhagen:20250912T170000
DTSTAMP:20260423T122609
CREATED:20250618T071838Z
LAST-MODIFIED:20251028T113910Z
UID:10000006-1757575800-1757696400@fkfinfo.auxodev2.dk
SUMMARY:TR-Seminar 11. - 12. september
DESCRIPTION:TR-seminar den 11. – 12. september 2025 afholdes på Skjoldenæsholm Slot. Flere oplysninger er blevet sendt ud via mail til TR samt suppleanter. \nMeld dig gerne til forneden hvis du er tillidsrepræsentant eller suppleant i din afdeling og skulle du have spørgsmål\, er du velkommen til at kontakte os på fkf@frederiksberg.dk eller telefon +45 28 60 39 22. \n  \nUps! We kunne ikke finde din formular.
URL:https://fkfinfo.auxodev2.dk/event/tr-seminar-11-12-september/
LOCATION:Smallegade 1\, Frederiksberg
ATTACH;FMTTYPE=image/jpeg:https://fkfinfo.auxodev2.dk/wp-content/uploads/Skjoldenaesholm-slot-2.jpg
END:VEVENT
BEGIN:VEVENT
DTSTART;TZID=Europe/Copenhagen:20250904T090000
DTEND;TZID=Europe/Copenhagen:20250904T173000
DTSTAMP:20260423T122609
CREATED:20250507T090234Z
LAST-MODIFIED:20251028T115100Z
UID:10000007-1756976400-1757007000@fkfinfo.auxodev2.dk
SUMMARY:Pensionistklubbens årlige skovtur
DESCRIPTION:Billedet er AI genereret \nGlæd dig til den årlige skovtur med FKF’s pensionistklub\n  \nDen årlige skovtur for pensionerede medlemmer af FKF finder sted torsdag den 4. september 2025. \nTorsdag den 4. september kl. 9.00 med forventet hjemkomst samme sted ca. kl. 17.30. \nUdflugt og fortæring på turen er gratis\, og destinationen er hemmelig\, indtil vi er kommet ud i det grønne. \nMeld dig til forneden. \n  \nVel mødt \nPensionistklubbens bestyrelse \n  \nUps! We kunne ikke finde din formular. \nArrangementet sponsoreres af Interesseforeningen
URL:https://fkfinfo.auxodev2.dk/event/pensionistklubbens-aarlige-skovtur/
CATEGORIES:Klubarrangementer,Pension
ATTACH;FMTTYPE=image/png:https://fkfinfo.auxodev2.dk/wp-content/uploads/Pensionister-i-en-bus-e1746609342201.png
END:VEVENT
BEGIN:VEVENT
DTSTART;TZID=Europe/Copenhagen:20250520T110000
DTEND;TZID=Europe/Copenhagen:20250520T170000
DTSTAMP:20260423T122609
CREATED:20250114T094116Z
LAST-MODIFIED:20251028T115113Z
UID:10000008-1747738800-1747760400@fkfinfo.auxodev2.dk
SUMMARY:Pensionistklubbens forårstur på Rosenborg Slot
DESCRIPTION:Pensionistklubben indbyder til rundvisning på Rosenborg Slot\nTirsdag den 20. maj 2025 kl. 11.00 \n  \nMødested kl. 10.45 ved indgangen til Rosenborg Slot. \nTuren er guidet og varer ca. en 1 time. \nLedsager er velkomne mod betaling på 110 kr. \n  \nEfter rundvisningen er der reserveret bord på Cafe Vivaldi\, Frederiksborggade 14. \nHer kan I selv bestille\, hvad I gerne vil have. \nMad og drikkevarer er for egen regning og til betaling på stedet. \n  \nVIGTIGT: Når I tilmelder jer\, kan I kun tilmelde én person af gangen! Hvis du skal tilmelde flere til arrangementet\, SKAL du derfor bruge linket flere gange – altså én tilmelding pr. navn. \n  \nSidste frist for tilmelding til forårsturen er den 5. maj 2025. \n  \n                                   Pensionistklubbens bestyrelse. \n  \nArrangementet sponsoreres af Interesseforeningen \n  \nTilmelding til forårsturen \nUps! We kunne ikke finde din formular.
URL:https://fkfinfo.auxodev2.dk/event/pensionistklubbens-foraarstur-paa-rosenborg-slot/
CATEGORIES:Klubarrangementer,Pension
ATTACH;FMTTYPE=image/jpeg:https://fkfinfo.auxodev2.dk/wp-content/uploads/Rosenborg-slot-e1736848087217.jpg
END:VEVENT
BEGIN:VEVENT
DTSTART;TZID=Europe/Copenhagen:20250318T163000
DTEND;TZID=Europe/Copenhagen:20250318T173000
DTSTAMP:20260423T122609
CREATED:20250120T070938Z
LAST-MODIFIED:20251028T115131Z
UID:10000011-1742315400-1742319000@fkfinfo.auxodev2.dk
SUMMARY:Rundvisning på Frihedsmuseet
DESCRIPTION:Tag med FKF på en spændende rundvisning på Frihedsmuseet den 18. marts kl. 16.30. \nDen 9. april invaderer tyskerne Danmark\, og danskerne vågner op til en ny virkelighed. \nHvad kan og skal man stille op? Mens bombeflyene cirkler over hovedstaden\, skal Statsministeren og Kongen svare på det tyske ultimatum: Overgiv jer\, eller vi bomber jer sønder og sammen. Hvordan beskytter landets ledere bedst landet og danskerne? \nVi hører nærmere om samarbejdspolitikken\, sabotageaktioner\, modstandskæmpere og dem\, der frivilligt kæmpede på tyskernes side ved Østfronten. Og på hvordan hverdagen forandrede sig for helt almindelige mennesker. \nVi glæder os til en spændende oplevelse sammen med jer. \n  \n  \nTilmeldingsfrist: 5. marts \nAntal pladser: 20 \nArrangementet støttes af Interesseforeningen \n  \nUps! We kunne ikke finde din formular.
URL:https://fkfinfo.auxodev2.dk/event/rundvisning-paa-frihedsmuseet/
LOCATION:Smallegade 1\, Frederiksberg
ATTACH;FMTTYPE=image/jpeg:https://fkfinfo.auxodev2.dk/wp-content/uploads/Frihedsmuseet-e1737359454662.jpg
END:VEVENT
BEGIN:VEVENT
DTSTART;TZID=Europe/Copenhagen:20250305T163000
DTEND;TZID=Europe/Copenhagen:20250305T200000
DTSTAMP:20260423T122609
CREATED:20250114T081053Z
LAST-MODIFIED:20251028T115138Z
UID:10000012-1741192200-1741204800@fkfinfo.auxodev2.dk
SUMMARY:FKFs Garantifonds generalforsamling 2025
DESCRIPTION:Frederiksberg Kommunalforenings Garantifond\nafholder ordinær generalforsamling  \n\nOnsdag d. 5. marts 2025\, kl. 16.30\n\ni kantinen på Frederiksberg Rådhus med følgende dagsorden: \n\nValg af dirigent\nBeretning og regnskab for 2023 og 2024\nIndkomne forslag\nFastsættelse af kontingent for resten af 2025 og 2026\nValg af forretningsfører. (Nuværende forretningsfører er Niels Soelberg\, som er villig til genvalg)\nValg af 2 bestyrelsesmedlemmer (Berit Aasted og Jannie Juel er villige til genvalg)\nValg af 2 revisorer\nValg af 3 suppleanter for bestyrelsesmedlemmerne.\nValg af 2 revisorsuppleanter\n\n  \nEfter generalforsamlingen er Garantifonden vært ved et traktement. \nDe medlemmer\, der ønsker at deltage i spisningen\, bedes tilmelde sig senest mandag d. 24. februar kl. 12. \nDe reviderede regnskaber for 2023 og 2024 kan afhentes hos FKF fra den 28. februar. \n  \nMedlemmer af Frederiksberg Kommunalforening er obligatorisk medlem af Frederiksberg Kommunalforenings Garantifond. Dette gælder dog ikke medlemmer\, der er pensionerede samt ekstraordinære medlemmer. \n  \nTilmeld dig her \nUps! We kunne ikke finde din formular.
URL:https://fkfinfo.auxodev2.dk/event/fkfs-garantifonds-generalforsamling-2025/
LOCATION:Smallegade 1\, Frederiksberg
ATTACH;FMTTYPE=image/jpeg:https://fkfinfo.auxodev2.dk/wp-content/uploads/2586-e1736845752787.jpg
END:VEVENT
END:VCALENDAR